BEGIN:VCALENDAR
VERSION:2.0
PRODID:-//Gioia dellAmore Cellars - ECPv6.8.3//NONSGML v1.0//EN
CALSCALE:GREGORIAN
METHOD:PUBLISH
X-WR-CALNAME:Gioia dellAmore Cellars
X-ORIGINAL-URL:https://gioiadellamore.com
X-WR-CALDESC:Events for Gioia dellAmore Cellars
REFRESH-INTERVAL;VALUE=DURATION:PT1H
X-Robots-Tag:noindex
X-PUBLISHED-TTL:PT1H
BEGIN:VTIMEZONE
TZID:America/New_York
BEGIN:DAYLIGHT
TZOFFSETFROM:-0500
TZOFFSETTO:-0400
TZNAME:EDT
DTSTART:20230312T070000
END:DAYLIGHT
BEGIN:STANDARD
TZOFFSETFROM:-0400
TZOFFSETTO:-0500
TZNAME:EST
DTSTART:20231105T060000
END:STANDARD
END:VTIMEZONE
BEGIN:VEVENT
DTSTART;TZID=America/New_York:20230909T130000
DTEND;TZID=America/New_York:20230909T170000
DTSTAMP:20260425T065525
CREATED:20230901T141857Z
LAST-MODIFIED:20230901T141900Z
UID:2716-1694264400-1694278800@gioiadellamore.com
SUMMARY:Live Music - The Almost Irish Band
DESCRIPTION:Join us for some great live music with The Almost Irish Band (TIAB) on Saturday\, September 9th from 2:00 to 5:00. We have paired TIAB with an exciting new food truck\, Ethio-Indi Alkaline Cuisine who will begin food service at 1:00! \n\n\n\n\n\n\n\nThe band mixes in some old time music\, some folk\, and occasionally even a sea shanty\, a bluegrass number\, or an original song.  The group also does a lot of “oldies\,” which in this case means things like music from The Beatles\, Simon & Garfunkel\, The Everly Brothers\, and many other artists that were enjoyed in the 50s\, 60\, and 70s. \n\n\n\nWe will be featuring a new food truck\, Ethio-Indi. This will be something new and fun to try!  \n\n\n\nWe will also be pairing the live music and food with our wine and beer selections\, and we will have the wine slushy machine up and going for the afternoon. \n\n\n\nEthio-Indi Food Truck: Is a local business is based on the principles of healthy\, sustainable\, and plant-based food options. Based upon comments from their customers\, we can’t wait to try the food! Comments such as\, “I almost ate my fingers off”\, “The burger was delicious”\, and “Who knew vegan food could be so good”. Owner\, Tonga Ramseur\, serves an all plant-based menu influenced by her Indian and Ethiopian roots. Her menu includes burgers\, chill “e” dogs\, a steak and gravy platter\, fried okra and more. She  uses chickpea flour and grapeseed oil for frying and also offers gluten-free chickpea bread. For Ramseur\, who has eaten a vegan diet almost all of her life\, it’s all about showing customers that vegan food is delicious\, combating the “bad rap” she said it sometimes gets. \n\n\n\nGioia dell’Amore Cellars is a 96-acre vineyard\, winery\, wedding venue\, and cabin rental facility nestled in the rolling hills of Rockingham County among the vines of Autumn Creek Vineyards. Born out of the owners’ love of family and wine\, Gioia dell’Amore Cellars endeavors to share these passions in its romantic\, rustic country setting where it aims to “Scatter Joy!” to its community and customers.
URL:https://gioiadellamore.com/event/live-music-the-almost-irish-band/
END:VEVENT
BEGIN:VEVENT
DTSTART;TZID=America/New_York:20230917T143000
DTEND;TZID=America/New_York:20230917T173000
DTSTAMP:20260425T065525
CREATED:20230724T135834Z
LAST-MODIFIED:20230725T182059Z
UID:2462-1694961000-1694971800@gioiadellamore.com
SUMMARY:Josh Ray Hudson Live Music
DESCRIPTION:We are excited to welcome award winning singer\, songwriter and musician\, Josh Hudson back to Gioia dell’Amore Cellars on September 17\, 2023. Josh will be playing an “around the world” mix with an excellent variety of country\, rock\, bluegrass and folk.  Live music will start at 2:30 and play until 5:30. \n\n\n\nWraps Around the World Food Truck will be returning to the vineyard from Charlotte for their second visit to Gioia dell’Amore Cellars at Autumn Creek Vineyards. They will be here both Saturday and Sunday from 1:00 pm to 6:00 pm. Their menu includes cleverly named “worldly” wraps such as “Jamaican me Hot!”\, “Lei the Hawaiian” and “Chicken and Pigs on the Ranch”. They also have flavored hummus in garlic\, beet\, avocado and buffalo. Preview their full menu! \n\n\n\nWe will be pouring up our tasty vino\, wine slushies and sharing local beers including Red Oak Amber and Hummingbird\, Pernicious IPA and Foothills Jade IPA along with the usual suspects Michelob Ultra\, Bud Lite and Miller Lite. \n\n\n\nJosh Hudson is a local singer and songwriter from Sandy Ridge\, North Carolina. Hudson has built something of a songwriting dynasty. Not only did he win the 2023 Don Gibson Singer/Songwriter Award\, the Cleveland County native also took home the top prize in 2020 and 2021. The year in between\, 2022\, Hudson finished in second place. After so much success\, what keeps Hudson coming back for more? Hudson states\, “as a performer\, if I put on a good show\, that’s great\, but to have people come just to hear something you have written\, that means a lot.” \n\n\n\nGioia dell’Amore Cellars is a 96-acre vineyard\, winery\, wedding venue\, and cabin rental facility nestled in the rolling hills of Rockingham County among the vines of Autumn Creek Vineyards. Born out of the owners’ love of family and wine\, Gioia dell’Amore Cellars endeavors to share these passions in its romantic\, rustic country setting where it aims to “Scatter Joy!” to its community and customers.
URL:https://gioiadellamore.com/event/josh-ray-hudson-live-music/
LOCATION:Tasting Room @ Gioia dell’Amore Cellars\, 364 Means Creek Rd\, Mayodan\, North Carolina\, 27027-8119
ORGANIZER;CN="Gioia dell'Amore Cellars at Autumn Creek Vineyards":MAILTO:laura@gioiadellamore.com
END:VEVENT
END:VCALENDAR