BEGIN:VCALENDAR
VERSION:2.0
PRODID:-//Gioia dellAmore Cellars - ECPv6.8.3//NONSGML v1.0//EN
CALSCALE:GREGORIAN
METHOD:PUBLISH
X-WR-CALNAME:Gioia dellAmore Cellars
X-ORIGINAL-URL:https://gioiadellamore.com
X-WR-CALDESC:Events for Gioia dellAmore Cellars
REFRESH-INTERVAL;VALUE=DURATION:PT1H
X-Robots-Tag:noindex
X-PUBLISHED-TTL:PT1H
BEGIN:VTIMEZONE
TZID:America/New_York
BEGIN:DAYLIGHT
TZOFFSETFROM:-0500
TZOFFSETTO:-0400
TZNAME:EDT
DTSTART:20230312T070000
END:DAYLIGHT
BEGIN:STANDARD
TZOFFSETFROM:-0400
TZOFFSETTO:-0500
TZNAME:EST
DTSTART:20231105T060000
END:STANDARD
END:VTIMEZONE
BEGIN:VEVENT
DTSTART;TZID=America/New_York:20230114T130000
DTEND;TZID=America/New_York:20230114T170000
DTSTAMP:20260419T105407
CREATED:20230111T000714Z
LAST-MODIFIED:20230111T000714Z
UID:2352-1673701200-1673715600@gioiadellamore.com
SUMMARY:Fireside Live Music Trio and Food Truck
DESCRIPTION:Join us this Saturday\, January 14th for our first live music event of 2023! Cozy up in the tasting room with a glass of wine or a beer and enjoy the sounds of Above the Fray Trio https://www.facebook.com/search/top?q=above%20the%20fray. Easy Eats food truck will be serving up some good home cooking\, check out their food here: https://www.facebook.com/search/top/?q=easy%20eats%20llc \nOf course we will be serving up our great wine selection including our newest release\, First Kiss Sparkling Rose. Check out our wine list here: http://www.gioiadellamore.com/wines \nWe look forward to sharing laughter and scattering joy with you on Saturday! \nLaura & David
URL:https://gioiadellamore.com/event/fireside-live-music-trio-and-food-truck-2/
LOCATION:North Carolina
END:VEVENT
BEGIN:VEVENT
DTSTART;TZID=America/New_York:20230114T130000
DTEND;TZID=America/New_York:20230114T170000
DTSTAMP:20260419T105407
CREATED:20230111T000714Z
LAST-MODIFIED:20230111T000714Z
UID:2020-1673701200-1673715600@gioiadellamore.com
SUMMARY:Fireside Live Music Trio and Food Truck
DESCRIPTION:Join us this Saturday\, January 14th for our first live music event of 2023! Cozy up in the tasting room with a glass of wine or a beer and enjoy the sounds of Above the Fray Trio https://www.facebook.com/search/top?q=above%20the%20fray. Easy Eats food truck will be serving up some good home cooking\, check out their food here: https://www.facebook.com/search/top/?q=easy%20eats%20llc \nOf course we will be serving up our great wine selection including our newest release\, First Kiss Sparkling Rose. Check out our wine list here: http://www.gioiadellamore.com/wines \nWe look forward to sharing laughter and scattering joy with you on Saturday! \nLaura & David
URL:https://gioiadellamore.com/event/fireside-live-music-trio-and-food-truck/
LOCATION:North Carolina
END:VEVENT
BEGIN:VEVENT
DTSTART;TZID=America/New_York:20230115T080000
DTEND;TZID=America/New_York:20230115T170000
DTSTAMP:20260419T105407
CREATED:20230115T195013Z
LAST-MODIFIED:20230115T195013Z
UID:2353-1673769600-1673802000@gioiadellamore.com
SUMMARY:Mulled Wine\, Music and Minis
DESCRIPTION:Join us in the tasting room for a warming afternoon of spiced mulled wine\, live bluegrass music by Ray Hudson\, and gourmet sliders by Twin City Minis. \nMany of you have been asking us to bring Ray back out with his bluegrass\, country and soul jams. Live music will start at 2:00 and play until 5:00.  You can check out his page here: https://www.facebook.com/ray.hudson.9066/about \nTwin City Minis will be here from noon until 6:00\, or when the food runs out :). We are excited to welcome them as a new partner. Come try out their mouth watering gourmet sliders. You can vies their website here: https://www.facebook.com/search/top?q=twin%20city%20mini%E2%80%99s%20food%20truck \nWe will be serving up some mulled spiced wine as well. And of course our full wine and beer menu will be available: https://magictable.app/gioia/our-wines/  We have added some fun new local IPAs to our beer list including Pernicious and Jade\, along with crowd favorites Red Oak Amber and Hummingbird. \nWant to stay for the weekend and not deal with the drive\, book a cabin walking distance from the tasting room here: https://magictable.app/gioia/stay/ \nWe look forward to sharing time with you\, Laura & David \n 
URL:https://gioiadellamore.com/event/mulled-wine-music-and-minis-2/
LOCATION:North Carolina
END:VEVENT
BEGIN:VEVENT
DTSTART;TZID=America/New_York:20230115T080000
DTEND;TZID=America/New_York:20230115T170000
DTSTAMP:20260419T105407
CREATED:20230115T195013Z
LAST-MODIFIED:20230115T195013Z
UID:2024-1673769600-1673802000@gioiadellamore.com
SUMMARY:Mulled Wine\, Music and Minis
DESCRIPTION:Join us in the tasting room for a warming afternoon of spiced mulled wine\, live bluegrass music by Ray Hudson\, and gourmet sliders by Twin City Minis. \nMany of you have been asking us to bring Ray back out with his bluegrass\, country and soul jams. Live music will start at 2:00 and play until 5:00.  You can check out his page here: https://www.facebook.com/ray.hudson.9066/about \nTwin City Minis will be here from noon until 6:00\, or when the food runs out :). We are excited to welcome them as a new partner. Come try out their mouth watering gourmet sliders. You can vies their website here: https://www.facebook.com/search/top?q=twin%20city%20mini%E2%80%99s%20food%20truck \nWe will be serving up some mulled spiced wine as well. And of course our full wine and beer menu will be available: https://magictable.app/gioia/our-wines/  We have added some fun new local IPAs to our beer list including Pernicious and Jade\, along with crowd favorites Red Oak Amber and Hummingbird. \nWant to stay for the weekend and not deal with the drive\, book a cabin walking distance from the tasting room here: https://magictable.app/gioia/stay/ \nWe look forward to sharing time with you\, Laura & David \n 
URL:https://gioiadellamore.com/event/mulled-wine-music-and-minis/
LOCATION:North Carolina
END:VEVENT
END:VCALENDAR