BEGIN:VCALENDAR
VERSION:2.0
PRODID:-//Gioia dellAmore Cellars - ECPv6.8.3//NONSGML v1.0//EN
CALSCALE:GREGORIAN
METHOD:PUBLISH
X-ORIGINAL-URL:https://gioiadellamore.com
X-WR-CALDESC:Events for Gioia dellAmore Cellars
REFRESH-INTERVAL;VALUE=DURATION:PT1H
X-Robots-Tag:noindex
X-PUBLISHED-TTL:PT1H
BEGIN:VTIMEZONE
TZID:America/New_York
BEGIN:DAYLIGHT
TZOFFSETFROM:-0500
TZOFFSETTO:-0400
TZNAME:EDT
DTSTART:20220313T070000
END:DAYLIGHT
BEGIN:STANDARD
TZOFFSETFROM:-0400
TZOFFSETTO:-0500
TZNAME:EST
DTSTART:20221106T060000
END:STANDARD
END:VTIMEZONE
BEGIN:VEVENT
DTSTART;TZID=America/New_York:20221113T010000
DTEND;TZID=America/New_York:20221113T180000
DTSTAMP:20260421T111248
CREATED:20221102T220728Z
LAST-MODIFIED:20221102T220728Z
UID:1968-1668301200-1668362400@gioiadellamore.com
SUMMARY:Fresh Evergreen Holiday Decoration Classes
DESCRIPTION:Join us for a fun and creative day on Sunday\, November 13th. We will feature 3 classes on fresh evergreen designs of wreaths\, swags and garlands. Classes taught by April at West & Company workshops. Registration and pre-payment is required. \nWe will also be featuring a fun tasting room party complete with the live music of Nick Branscome and food by Bearded BBQ food truck. Check out the food menu at http://beardedbbqnc.com. What could be jollier at a Christmas themed event than to have non-St. Nick jamming in the tasting room. We know you know and love him already but you can check out his tunes here: https://www.facebook.com/search/top?q=nick%20branscome
URL:https://gioiadellamore.com/event/fresh-evergreen-holiday-decoration-classes/
LOCATION:North Carolina
END:VEVENT
BEGIN:VEVENT
DTSTART;TZID=America/New_York:20221113T010000
DTEND;TZID=America/New_York:20221113T180000
DTSTAMP:20260421T111248
CREATED:20221102T220728Z
LAST-MODIFIED:20221102T220728Z
UID:2349-1668301200-1668362400@gioiadellamore.com
SUMMARY:Fresh Evergreen Holiday Decoration Classes
DESCRIPTION:Join us for a fun and creative day on Sunday\, November 13th. We will feature 3 classes on fresh evergreen designs of wreaths\, swags and garlands. Classes taught by April at West & Company workshops. Registration and pre-payment is required. \nWe will also be featuring a fun tasting room party complete with the live music of Nick Branscome and food by Bearded BBQ food truck. Check out the food menu at http://beardedbbqnc.com. What could be jollier at a Christmas themed event than to have non-St. Nick jamming in the tasting room. We know you know and love him already but you can check out his tunes here: https://www.facebook.com/search/top?q=nick%20branscome
URL:https://gioiadellamore.com/event/fresh-evergreen-holiday-decoration-classes-2/
LOCATION:North Carolina
END:VEVENT
BEGIN:VEVENT
DTSTART;TZID=America/New_York:20221119T100000
DTEND;TZID=America/New_York:20221119T160000
DTSTAMP:20260421T111248
CREATED:20221105T192017Z
LAST-MODIFIED:20221105T192017Z
UID:1987-1668852000-1668873600@gioiadellamore.com
SUMMARY:Holiday Sip & Shop
DESCRIPTION:  \n \nJoin us for our annual holiday shopping experience! We have expanded this year to house our artisan vendors in both the Pavilion and the Barrel Room. Food trucks\, music and wine will accompany the shopping fun. We are also adding a VIP ticketed event on Friday evening which will include dinner and exclusive pre-shopping event. \nPre-view vendors at: https://www.purplewagonevents.net/ \nPre-view wine choices at: https://magictable.app/gioia/our-wines/
URL:https://gioiadellamore.com/event/holiday-sip-shop-2/
LOCATION:North Carolina
END:VEVENT
BEGIN:VEVENT
DTSTART;TZID=America/New_York:20221119T100000
DTEND;TZID=America/New_York:20221119T160000
DTSTAMP:20260421T111248
CREATED:20221105T192017Z
LAST-MODIFIED:20221105T192017Z
UID:2350-1668852000-1668873600@gioiadellamore.com
SUMMARY:Holiday Sip & Shop
DESCRIPTION:  \n \nJoin us for our annual holiday shopping experience! We have expanded this year to house our artisan vendors in both the Pavilion and the Barrel Room. Food trucks\, music and wine will accompany the shopping fun. We are also adding a VIP ticketed event on Friday evening which will include dinner and exclusive pre-shopping event. \nPre-view vendors at: https://www.purplewagonevents.net/ \nPre-view wine choices at: https://magictable.app/gioia/our-wines/
URL:https://gioiadellamore.com/event/holiday-sip-shop-2-2/
LOCATION:North Carolina
END:VEVENT
BEGIN:VEVENT
DTSTART;TZID=America/New_York:20221125T130000
DTEND;TZID=America/New_York:20221125T180000
DTSTAMP:20260421T111248
CREATED:20221115T233800Z
LAST-MODIFIED:20221115T233800Z
UID:1990-1669381200-1669399200@gioiadellamore.com
SUMMARY:Black Friday - Artists in the Tasting Room
DESCRIPTION:Join us in the tasting room for a class of wine and some laughter after your shopping adventures. We will also have artists in the back room just in case you missed anyone on your list. Or just sit and sip with friends and family if you need a change of scenery after turkey dinner. We are grateful to be a part of this amazing community and look forward to your company!
URL:https://gioiadellamore.com/event/black-friday-artists-in-the-tasting-room/
LOCATION:North Carolina
END:VEVENT
BEGIN:VEVENT
DTSTART;TZID=America/New_York:20221125T130000
DTEND;TZID=America/New_York:20221125T180000
DTSTAMP:20260421T111248
CREATED:20221115T233800Z
LAST-MODIFIED:20221115T233800Z
UID:2351-1669381200-1669399200@gioiadellamore.com
SUMMARY:Black Friday - Artists in the Tasting Room
DESCRIPTION:Join us in the tasting room for a class of wine and some laughter after your shopping adventures. We will also have artists in the back room just in case you missed anyone on your list. Or just sit and sip with friends and family if you need a change of scenery after turkey dinner. We are grateful to be a part of this amazing community and look forward to your company!
URL:https://gioiadellamore.com/event/black-friday-artists-in-the-tasting-room-2/
LOCATION:North Carolina
END:VEVENT
END:VCALENDAR