BEGIN:VCALENDAR
VERSION:2.0
PRODID:-//Gioia dellAmore Cellars - ECPv6.8.3//NONSGML v1.0//EN
CALSCALE:GREGORIAN
METHOD:PUBLISH
X-ORIGINAL-URL:https://gioiadellamore.com
X-WR-CALDESC:Events for Gioia dellAmore Cellars
REFRESH-INTERVAL;VALUE=DURATION:PT1H
X-Robots-Tag:noindex
X-PUBLISHED-TTL:PT1H
BEGIN:VTIMEZONE
TZID:America/New_York
BEGIN:DAYLIGHT
TZOFFSETFROM:-0500
TZOFFSETTO:-0400
TZNAME:EDT
DTSTART:20220313T070000
END:DAYLIGHT
BEGIN:STANDARD
TZOFFSETFROM:-0400
TZOFFSETTO:-0500
TZNAME:EST
DTSTART:20221106T060000
END:STANDARD
END:VTIMEZONE
BEGIN:VEVENT
DTSTART;TZID=America/New_York:20221016T130000
DTEND;TZID=America/New_York:20221016T170000
DTSTAMP:20260421T111236
CREATED:20221015T005047Z
LAST-MODIFIED:20221015T005047Z
UID:2347-1665925200-1665939600@gioiadellamore.com
SUMMARY:Music and Food Truck - Fall Fest
DESCRIPTION:Join us in the tasting room for the great country tunes of Jacob Vaughan paired with tasty eats from Second Helpings Food Truck. \nJacob is back by popular request and will be playing live music from 2:00 to 5:00. check out a pre-view of his music here: https://www.facebook.com/JacobVaughanMusic/ \nSecond helpings will be serving up fried fish and chicken baskets\, beans\, slaw and Granny’s desserts! They will be fired up from 1:00 to 5:00. Check out their full menu here: http://www.secondhelpingsnc.com/menu/ \nOf course you will need some great beverages to wash it all down. Our local beer this quarter is Red Oak (both the Amber and Hummingbird) and we also have the usual suspects (Miller Lite\, Bud Lite and Michelob Ultra). Our wine list can be previewed here https://magictable.app/gioia/our-wines/\, and if you haven’t been out in a “spell”\, we have a couple of new offerings including our all estate grown dry Rose. \nWe look forward to sharing some laughter with you and hope you will join us as we work to Scatter Joy in all we do! \nSaluti\, Laura & David
URL:https://gioiadellamore.com/event/music-and-food-truck-fall-fest-2/
LOCATION:North Carolina
END:VEVENT
BEGIN:VEVENT
DTSTART;TZID=America/New_York:20221016T130000
DTEND;TZID=America/New_York:20221016T170000
DTSTAMP:20260421T111236
CREATED:20221015T005047Z
LAST-MODIFIED:20221015T005047Z
UID:1955-1665925200-1665939600@gioiadellamore.com
SUMMARY:Music and Food Truck - Fall Fest
DESCRIPTION:Join us in the tasting room for the great country tunes of Jacob Vaughan paired with tasty eats from Second Helpings Food Truck. \nJacob is back by popular request and will be playing live music from 2:00 to 5:00. check out a pre-view of his music here: https://www.facebook.com/JacobVaughanMusic/ \nSecond helpings will be serving up fried fish and chicken baskets\, beans\, slaw and Granny’s desserts! They will be fired up from 1:00 to 5:00. Check out their full menu here: http://www.secondhelpingsnc.com/menu/ \nOf course you will need some great beverages to wash it all down. Our local beer this quarter is Red Oak (both the Amber and Hummingbird) and we also have the usual suspects (Miller Lite\, Bud Lite and Michelob Ultra). Our wine list can be previewed here https://magictable.app/gioia/our-wines/\, and if you haven’t been out in a “spell”\, we have a couple of new offerings including our all estate grown dry Rose. \nWe look forward to sharing some laughter with you and hope you will join us as we work to Scatter Joy in all we do! \nSaluti\, Laura & David
URL:https://gioiadellamore.com/event/music-and-food-truck-fall-fest/
LOCATION:North Carolina
END:VEVENT
BEGIN:VEVENT
DTSTART;TZID=America/New_York:20221030T130000
DTEND;TZID=America/New_York:20221030T180000
DTSTAMP:20260421T111236
CREATED:20221016T015003Z
LAST-MODIFIED:20221016T015003Z
UID:2348-1667134800-1667152800@gioiadellamore.com
SUMMARY:Halloween Bash & Costume Contest
DESCRIPTION:Join us at the winery for live music and a fun costume contest complete with judging panel and prizes. Grand prize will be a 2 night weekday stay in one of our lodging suites on the vineyard property. \nEddie Carter will perform live music in the tasting room from 2:00 to 5:30.  Eddie will treat us to Americana music (also known as American Roots music) in the tasting room. This amalgam of American music formed by the confluence of the shared and varied traditions that make up the musical ethos of the United States has something to get everyone up and dancing! Check out Eddie’s music at: https://www.youtube.com/channel/UC51pXDL3BZHCB1v85ffYXaA \nCheck out our wine list here: https://magictable.app/gioia/our-wines/ \nWe look forward to your zany costume ideas and lots of shared laughter on the 30th. \nCheers!
URL:https://gioiadellamore.com/event/halloween-bash-costume-contest-2/
LOCATION:North Carolina
CATEGORIES:All Events
END:VEVENT
BEGIN:VEVENT
DTSTART;TZID=America/New_York:20221030T130000
DTEND;TZID=America/New_York:20221030T180000
DTSTAMP:20260421T111236
CREATED:20221016T015003Z
LAST-MODIFIED:20221016T015003Z
UID:1960-1667134800-1667152800@gioiadellamore.com
SUMMARY:Halloween Bash & Costume Contest
DESCRIPTION:Join us at the winery for live music and a fun costume contest complete with judging panel and prizes. Grand prize will be a 2 night weekday stay in one of our lodging suites on the vineyard property. \nEddie Carter will perform live music in the tasting room from 2:00 to 5:30.  Eddie will treat us to Americana music (also known as American Roots music) in the tasting room. This amalgam of American music formed by the confluence of the shared and varied traditions that make up the musical ethos of the United States has something to get everyone up and dancing! Check out Eddie’s music at: https://www.youtube.com/channel/UC51pXDL3BZHCB1v85ffYXaA \nCheck out our wine list here: https://magictable.app/gioia/our-wines/ \nWe look forward to your zany costume ideas and lots of shared laughter on the 30th. \nCheers!
URL:https://gioiadellamore.com/event/halloween-bash-costume-contest/
LOCATION:North Carolina
CATEGORIES:All Events
END:VEVENT
END:VCALENDAR