BEGIN:VCALENDAR
VERSION:2.0
PRODID:-//Gioia dellAmore Cellars - ECPv6.8.3//NONSGML v1.0//EN
CALSCALE:GREGORIAN
METHOD:PUBLISH
X-ORIGINAL-URL:https://gioiadellamore.com
X-WR-CALDESC:Events for Gioia dellAmore Cellars
REFRESH-INTERVAL;VALUE=DURATION:PT1H
X-Robots-Tag:noindex
X-PUBLISHED-TTL:PT1H
BEGIN:VTIMEZONE
TZID:America/New_York
BEGIN:DAYLIGHT
TZOFFSETFROM:-0500
TZOFFSETTO:-0400
TZNAME:EDT
DTSTART:20220313T070000
END:DAYLIGHT
BEGIN:STANDARD
TZOFFSETFROM:-0400
TZOFFSETTO:-0500
TZNAME:EST
DTSTART:20221106T060000
END:STANDARD
END:VTIMEZONE
BEGIN:VEVENT
DTSTART;TZID=America/New_York:20220925T130000
DTEND;TZID=America/New_York:20220925T143000
DTSTAMP:20260421T213213
CREATED:20220906T185418Z
LAST-MODIFIED:20220906T185418Z
UID:1942-1664110800-1664116200@gioiadellamore.com
SUMMARY:Paint and Sip Class - Sunset Over the Vineyard
DESCRIPTION:  \nJoin us for a fun Paint & Sip Workshop where we will create a painting of Sunrise Over the Vineyard. April with West & Co will lead us on Sunday\, September 25th from 1:00 to 2:30. Of course\, wine will be available for purchase in the tasting room to bring along to the event. \nPre-registration is required at the link below\, cost is $35 per person. Please note that there is a 4 person minimum for the class to be confirmed\, so grab some friends and join us for a fun time in the barrel room! https://checkout.square.site/merchant/MLBKEGYNHPA41/checkout/XMEFHMC6G6JG276GMJQZJI2H \nPre-view the great work from artist April here: https://www.facebook.com/westnco2015/ \nYou can also view our wine menu here to select your wines for purchase the day of the event: https://magictable.app/gioia/our-wines/ \nWe hope to see there!
URL:https://gioiadellamore.com/event/paint-and-sip-class-sunset-over-the-vineyard/
LOCATION:North Carolina
CATEGORIES:Public
END:VEVENT
BEGIN:VEVENT
DTSTART;TZID=America/New_York:20220925T130000
DTEND;TZID=America/New_York:20220925T143000
DTSTAMP:20260421T213213
CREATED:20220906T185418Z
LAST-MODIFIED:20220906T185418Z
UID:2346-1664110800-1664116200@gioiadellamore.com
SUMMARY:Paint and Sip Class - Sunset Over the Vineyard
DESCRIPTION:  \nJoin us for a fun Paint & Sip Workshop where we will create a painting of Sunrise Over the Vineyard. April with West & Co will lead us on Sunday\, September 25th from 1:00 to 2:30. Of course\, wine will be available for purchase in the tasting room to bring along to the event. \nPre-registration is required at the link below\, cost is $35 per person. Please note that there is a 4 person minimum for the class to be confirmed\, so grab some friends and join us for a fun time in the barrel room! https://checkout.square.site/merchant/MLBKEGYNHPA41/checkout/XMEFHMC6G6JG276GMJQZJI2H \nPre-view the great work from artist April here: https://www.facebook.com/westnco2015/ \nYou can also view our wine menu here to select your wines for purchase the day of the event: https://magictable.app/gioia/our-wines/ \nWe hope to see there!
URL:https://gioiadellamore.com/event/paint-and-sip-class-sunset-over-the-vineyard-2/
LOCATION:North Carolina
CATEGORIES:Public
END:VEVENT
END:VCALENDAR